BEGIN:VCALENDAR
VERSION:2.0
PRODID:-//The Divettes aka Soca Divettes - ECPv6.15.20//NONSGML v1.0//EN
CALSCALE:GREGORIAN
METHOD:PUBLISH
X-ORIGINAL-URL:https://divettes.com
X-WR-CALDESC:Events for The Divettes aka Soca Divettes
REFRESH-INTERVAL;VALUE=DURATION:PT1H
X-Robots-Tag:noindex
X-PUBLISHED-TTL:PT1H
BEGIN:VTIMEZONE
TZID:UTC
BEGIN:STANDARD
TZOFFSETFROM:+0000
TZOFFSETTO:+0000
TZNAME:UTC
DTSTART:20240101T000000
END:STANDARD
END:VTIMEZONE
BEGIN:VEVENT
DTSTART;TZID=UTC:20251218T180000
DTEND;TZID=UTC:20251219T000000
DTSTAMP:20260422T033615
CREATED:20251121T201026Z
LAST-MODIFIED:20251121T201937Z
UID:372-1766080800-1766102400@divettes.com
SUMMARY:GIANTS OF LOVERS  - JA FUNDRAISER CONCERT
DESCRIPTION:Jamaica is the originator of Reggae\, a fact which means any one who has ever sang or sang along too a reggae song owes this Island in the Caribbean a debt of gratitude.\n\n\nJamaica is also the home to 2.84 million inhabitants\, late October a category 5 Hurricane ripped through the Island leaving 1.5 million of these people either homeless or without a livelihood.\n\n\nOn the 18th December 2025 the UK Reggae industry will donate their time for free & take part in the single largest fund raiser to take place in the UK.\n\n\nOver 38 artistes take to the stage at The Indigo 02 to raise money to donate to the charity “Food for the poor” Jamaica’s no 1 boots on the ground organisation.\n\n\nTickets for this heart felt appeal go on sale from 11am today\, Friday 14th November 25\n\n\nEvery ticket purchased will go to “Food for the poor” so please support\, either in person or simply by buying a ticket.\n\n\n“ONE LOVE\, ONE HEART\, LETS GET TOGETHER & FEEL ALRIGHT\n\nTICKETS: https://www.axs.com/uk/events/1228334/giants-of-lovers-rock-ja-fundraiser-tickets?skin=indigo&fbclid=IwY2xjawONpYNleHRuA2FlbQIxMABicmlkETA2RlpJV1VQTE9TZ0lGSU5Jc3J0YwZhcHBfaWQQMjIyMDM5MTc4ODIwMDg5MgABHtXux0Q-06fZ8baui1sAB8ougZYksZAB0HjXibsliggYphPKGEEoG1INXdbL_aem_ka3TO5iA9DcQDOyT40wbtA
URL:https://divettes.com/event/giants-of-lovers-ja-fundraiser-concert/
LOCATION:indigo at The O2\, 205 Peninsula Square\, London\, SE10 0ES\, United Kingdom
END:VEVENT
END:VCALENDAR