BEGIN:VCALENDAR
VERSION:2.0
PRODID:-//The Divettes aka Soca Divettes - ECPv6.15.20//NONSGML v1.0//EN
CALSCALE:GREGORIAN
METHOD:PUBLISH
X-ORIGINAL-URL:https://divettes.com
X-WR-CALDESC:Events for The Divettes aka Soca Divettes
REFRESH-INTERVAL;VALUE=DURATION:PT1H
X-Robots-Tag:noindex
X-PUBLISHED-TTL:PT1H
BEGIN:VTIMEZONE
TZID:UTC
BEGIN:STANDARD
TZOFFSETFROM:+0000
TZOFFSETTO:+0000
TZNAME:UTC
DTSTART:20230101T000000
END:STANDARD
END:VTIMEZONE
BEGIN:VEVENT
DTSTART;TZID=UTC:20250531T200000
DTEND;TZID=UTC:20250601T030000
DTSTAMP:20260422T001611
CREATED:20250512T224639Z
LAST-MODIFIED:20250512T224917Z
UID:334-1748721600-1748746800@divettes.com
SUMMARY:Pure Lovers
DESCRIPTION:THE DIVETTES  ‘Ultimate Vocal Duo’ MeeshAnn & GeeGee \nperform Backing Vocals for Kofi\, Michael Gordon & special guest Slim Batson \non Sunday 31st May
URL:https://divettes.com/event/pure-lovers/
LOCATION:Kilburn Bridge\, 77 Kilburn High Road\, London\, NW6 6HY
END:VEVENT
BEGIN:VEVENT
DTSTART;TZID=UTC:20250402T183000
DTEND;TZID=UTC:20250402T220000
DTSTAMP:20260422T001611
CREATED:20250203T202912Z
LAST-MODIFIED:20250203T203024Z
UID:316-1743618600-1743631200@divettes.com
SUMMARY:Junior Giscombe & The Divettes @ PizzaExpress Live Holborn
DESCRIPTION:Sunshine Entertainments presents \nJUNIOR GISCOMBE & Full Band \nSpecial Guest & Opening act \nTHE DIVETTES \nalso providing backing Vocals for Junior Giscombe performance \nWednesday 2nd April 2025 @ PizzaExpress Live\, Holborn \n 
URL:https://divettes.com/event/junior-giscombe-the-divettes-pizzaexpress-live-holborn/
LOCATION:Pizza Express Live (Holborn)\, 99 High Holborn\, London\, WC1V 6LF\, United Kingdom
END:VEVENT
BEGIN:VEVENT
DTSTART;TZID=UTC:20250321T000000
DTEND;TZID=UTC:20250324T235900
DTSTAMP:20260422T001611
CREATED:20250107T091904Z
LAST-MODIFIED:20250108T210428Z
UID:306-1742515200-1742860740@divettes.com
SUMMARY:March Spring weekender
DESCRIPTION:Join The Divettes at the Spring Weekender \nFriday 21st March – Monday 24th March 2025 \nWe will be performing on 22nd March\, come down for a full weekend \nof  Live music\, games\,laughter and much more! \n3 Rooms Of Music
URL:https://divettes.com/event/the-spring-weekender/
END:VEVENT
BEGIN:VEVENT
DTSTART;TZID=UTC:20241228T200000
DTEND;TZID=UTC:20241228T233000
DTSTAMP:20260422T001611
CREATED:20241206T163710Z
LAST-MODIFIED:20241206T163710Z
UID:299-1735416000-1735428600@divettes.com
SUMMARY:Antwerp: Christmas Pre New Years Party
DESCRIPTION:Antwerp Arm presents THE DIVETTES \nChristmas Pre New Years Party\, SATURDAY 28TH DECEMBER 2024\, FREE ENTRY
URL:https://divettes.com/event/antwerp-christmas-pre-new-years-party/
LOCATION:Antwerp Arms\, n17\, United Kingdom
END:VEVENT
BEGIN:VEVENT
DTSTART;TZID=UTC:20241215T140000
DTEND;TZID=UTC:20241215T200000
DTSTAMP:20260422T001611
CREATED:20241206T162845Z
LAST-MODIFIED:20241206T163017Z
UID:294-1734271200-1734292800@divettes.com
SUMMARY:The Divettes & Vivan Jones Sunday Brunch
DESCRIPTION:Welcome DRINK ON ENTRY.. RAFFLE TICKETS.. to **CHRISTMAS SUNDAY BRUNCH** with **VIVIAN JONES** and **THE DIVETTES** on the 15th of December! Join us for a festive afternoon filled with delicious food\, great music\, and holiday cheer. The event will start at 2:00 PM at the location WD18 0FL. Don’t miss out on this opportunity to celebrate the season with friends and family. See you there!
URL:https://divettes.com/event/the-divettes-vivan-jones-sunday-brunch/
LOCATION:Talisman House\, Wiggenhall Road\, Watford\, WD18 0FL
END:VEVENT
BEGIN:VEVENT
DTSTART;TZID=UTC:20241203T183000
DTEND;TZID=UTC:20241203T223000
DTSTAMP:20260422T001611
CREATED:20240905T234057Z
LAST-MODIFIED:20240905T234330Z
UID:280-1733250600-1733265000@divettes.com
SUMMARY:THE DIVETTES Live at PIZZA EXPRESS LIVE (Holborn)
DESCRIPTION:  \n \n‘The Divettes’ extensive experience and versatility in different genres have made them a valuable asset to the UK music industry. Their passion for music shines through in every project they undertake\, and their talent continues to captivate audiences worldwide.
URL:https://divettes.com/event/the-divettes-live-at-pizza-express-live-holborn/
LOCATION:Pizza Express Live (Holborn)\, 99 High Holborn\, London\, WC1V 6LF\, United Kingdom
END:VEVENT
BEGIN:VEVENT
DTSTART;TZID=UTC:20241027T183000
DTEND;TZID=UTC:20241027T230000
DTSTAMP:20260422T001611
CREATED:20240918T161714Z
LAST-MODIFIED:20240918T162119Z
UID:286-1730053800-1730070000@divettes.com
SUMMARY:Trip Down Revival Lane
DESCRIPTION:A Hit Concert featuring The Sublime\nVocals Of Our Very Own Reggae “Supremes” \nTHE DIVETTES \n@Soul Mama\, Gantry Hotel (Curio Collection by Hilton)\, London\, E20 1DB
URL:https://divettes.com/event/trip-down-revival-lane/
LOCATION:Soul Mana\, Gantry Hotel (Curio Collection by Hilton)\, London\, E20 1BD
END:VEVENT
BEGIN:VEVENT
DTSTART;TZID=UTC:20241012T190000
DTEND;TZID=UTC:20241202T210000
DTSTAMP:20260422T001611
CREATED:20240822T163129Z
LAST-MODIFIED:20240822T165421Z
UID:271-1728759600-1733173200@divettes.com
SUMMARY:Fundraiser For Children with Sickle Cell & Thalassemia - Gospel
DESCRIPTION:A Family Gospel Fundraiser\, raising money for children with Sickle Cell & Thalassemia \nTottenham Baptist Church . N17 \nDonations gratefully received\, please use the link below to make a donation \nhttps://gofund.me/c5e058ab
URL:https://divettes.com/event/fundraiser-for-children-with-sickle-cell-thalassemia-gospel/
END:VEVENT
BEGIN:VEVENT
DTSTART;TZID=UTC:20240921T120000
DTEND;TZID=UTC:20240921T170000
DTSTAMP:20260422T001611
CREATED:20240822T162019Z
LAST-MODIFIED:20240822T162019Z
UID:266-1726920000-1726938000@divettes.com
SUMMARY:Haringey's Age Well Festival.
DESCRIPTION:The Divettes will be the Headline Act. \nA Celebration of the Mature community \nBruce Castle Park\, N17 8NL \n  \n 
URL:https://divettes.com/event/haringeys-age-well-festival/
END:VEVENT
BEGIN:VEVENT
DTSTART;TZID=UTC:20240901T140000
DTEND;TZID=UTC:20240901T203000
DTSTAMP:20260422T001611
CREATED:20240816T195231Z
LAST-MODIFIED:20240822T165157Z
UID:256-1725199200-1725222600@divettes.com
SUMMARY:Sunday Brunch
DESCRIPTION:Join us for a delightful Sunday brunch at Talisman House! Indulge in a scrumptious spread of Caribbean favorites and refreshing drinks in a cozy atmosphere. Whether you’re a foodie or just looking for entertainment.. you are in for a treat..live PA by The DIVETTES\, COMEDY by Paulette aka Miss Florence SALSA by Gilly Gill.this event is perfect for you. Located at WD18 0FL
URL:https://divettes.com/event/sunday-brunch/
END:VEVENT
END:VCALENDAR