BEGIN:VCALENDAR
VERSION:2.0
PRODID:-//The Divettes aka Soca Divettes - ECPv6.15.20//NONSGML v1.0//EN
CALSCALE:GREGORIAN
METHOD:PUBLISH
X-ORIGINAL-URL:https://divettes.com
X-WR-CALDESC:Events for The Divettes aka Soca Divettes
REFRESH-INTERVAL;VALUE=DURATION:PT1H
X-Robots-Tag:noindex
X-PUBLISHED-TTL:PT1H
BEGIN:VTIMEZONE
TZID:UTC
BEGIN:STANDARD
TZOFFSETFROM:+0000
TZOFFSETTO:+0000
TZNAME:UTC
DTSTART:20250101T000000
END:STANDARD
END:VTIMEZONE
BEGIN:VEVENT
DTSTART;TZID=UTC:20260509T190000
DTEND;TZID=UTC:20260509T235900
DTSTAMP:20260422T021926
CREATED:20260228T140312Z
LAST-MODIFIED:20260416T212259Z
UID:411-1778353200-1778371140@divettes.com
SUMMARY:THE DIVETTES
DESCRIPTION:Postponed to Saturday 15th August
URL:https://divettes.com/event/the-divettes/
END:VEVENT
BEGIN:VEVENT
DTSTART;TZID=UTC:20260517T150000
DTEND;TZID=UTC:20260517T220000
DTSTAMP:20260422T021926
CREATED:20260228T131837Z
LAST-MODIFIED:20260228T131837Z
UID:395-1779030000-1779055200@divettes.com
SUMMARY:SIGNATURE SUNDAY BRUNCH
DESCRIPTION:SUNDAY 17TH MAY @ Camino\, Kings Cross \n \n 
URL:https://divettes.com/event/signature-sunday-brunch/
LOCATION:Camino\, 3 Varnishers Yard\, n1 9fd\, United Kingdom
END:VEVENT
BEGIN:VEVENT
DTSTART;TZID=UTC:20260621T190000
DTEND;TZID=UTC:20260621T220000
DTSTAMP:20260422T021926
CREATED:20260228T133258Z
LAST-MODIFIED:20260228T133258Z
UID:401-1782068400-1782079200@divettes.com
SUMMARY:
DESCRIPTION:THE WINDRUSH CONCERT\nSUNDAY 21 JUNE 2026\n7pm-10pm\nHost Mr & Mrs Ernie…FELICITY ETHNIC and DADDY ERNIE\nIn their Windrush Front Room. With singing sensation“The DIVETTES” \nThis wonderful concert will capture the sound of the Windrush Front Room\, Bluespot Gram\nWith live performances from the renowned FREEDOM BAND UK in their 1950s outfits playing live sets with classic songs from Jim Reeves\, Millie\, Phyllis Dillon\, Dennis Brown\, John Holt\, Ace Cannon\, Althea & Donna\, Leaving Rome (the Guyanese Waltz) playing hit after hit after hit.\nTake an elder\,aunty\, uncle\, a family member\,a friend and wear your retro outfit and dancing shoes.\nThere are limited Wheelchair spaces book early by contacting the\nBroadway Theatre Catford\nBox Office. 0208 690 0002
URL:https://divettes.com/event/401/
LOCATION:Broadway Theatre Catford\, Rushy Green\, Catford\, SE6 4RU
END:VEVENT
END:VCALENDAR