BEGIN:VCALENDAR
VERSION:2.0
PRODID:-//The Divettes aka Soca Divettes - ECPv6.15.20//NONSGML v1.0//EN
CALSCALE:GREGORIAN
METHOD:PUBLISH
X-ORIGINAL-URL:https://divettes.com
X-WR-CALDESC:Events for The Divettes aka Soca Divettes
REFRESH-INTERVAL;VALUE=DURATION:PT1H
X-Robots-Tag:noindex
X-PUBLISHED-TTL:PT1H
BEGIN:VTIMEZONE
TZID:UTC
BEGIN:STANDARD
TZOFFSETFROM:+0000
TZOFFSETTO:+0000
TZNAME:UTC
DTSTART:20240101T000000
END:STANDARD
END:VTIMEZONE
BEGIN:VEVENT
DTSTART;TZID=UTC:20251129T200000
DTEND;TZID=UTC:20251130T020000
DTSTAMP:20260422T071139
CREATED:20251121T195741Z
LAST-MODIFIED:20251121T195809Z
UID:369-1764446400-1764468000@divettes.com
SUMMARY:Miss Jamaica UK 2025 - JA FUNDRAISER
DESCRIPTION:Miss Jamaica UK 2025 \nTHE DIVETTES will be doing a special PA \n 
URL:https://divettes.com/event/miss-jamaica-uk-2025-ja-fundraiser/
LOCATION:Cavendish Banqueting\, Edgware Road\, London\, NW9 5AE\, United Kingdom
END:VEVENT
END:VCALENDAR