BEGIN:VCALENDAR
VERSION:2.0
PRODID:-//The Divettes aka Soca Divettes - ECPv6.15.20//NONSGML v1.0//EN
CALSCALE:GREGORIAN
METHOD:PUBLISH
X-WR-CALNAME:The Divettes aka Soca Divettes
X-ORIGINAL-URL:https://divettes.com
X-WR-CALDESC:Events for The Divettes aka Soca Divettes
REFRESH-INTERVAL;VALUE=DURATION:PT1H
X-Robots-Tag:noindex
X-PUBLISHED-TTL:PT1H
BEGIN:VTIMEZONE
TZID:UTC
BEGIN:STANDARD
TZOFFSETFROM:+0000
TZOFFSETTO:+0000
TZNAME:UTC
DTSTART:20240101T000000
END:STANDARD
END:VTIMEZONE
BEGIN:VEVENT
DTSTART;TZID=UTC:20251109T140000
DTEND;TZID=UTC:20251109T210000
DTSTAMP:20260422T084944
CREATED:20250907T152351Z
LAST-MODIFIED:20250907T152351Z
UID:364-1762696800-1762722000@divettes.com
SUMMARY:Talisman House Sunday Brunch
DESCRIPTION:More details for follow. \nSocial media Handle @socadivettes
URL:https://divettes.com/event/talisman-house-sunday-brunch/
LOCATION:Talisman House\, Wiggenhall Road\, Watford\, WD18 0FL
END:VEVENT
END:VCALENDAR