BEGIN:VCALENDAR
VERSION:2.0
PRODID:-//The Divettes aka Soca Divettes - ECPv6.15.20//NONSGML v1.0//EN
CALSCALE:GREGORIAN
METHOD:PUBLISH
X-WR-CALNAME:The Divettes aka Soca Divettes
X-ORIGINAL-URL:https://divettes.com
X-WR-CALDESC:Events for The Divettes aka Soca Divettes
REFRESH-INTERVAL;VALUE=DURATION:PT1H
X-Robots-Tag:noindex
X-PUBLISHED-TTL:PT1H
BEGIN:VTIMEZONE
TZID:UTC
BEGIN:STANDARD
TZOFFSETFROM:+0000
TZOFFSETTO:+0000
TZNAME:UTC
DTSTART:20240101T000000
END:STANDARD
END:VTIMEZONE
BEGIN:VEVENT
DTSTART;TZID=UTC:20251019T130000
DTEND;TZID=UTC:20251019T180000
DTSTAMP:20260422T090146
CREATED:20250907T145728Z
LAST-MODIFIED:20250907T151624Z
UID:354-1760878800-1760896800@divettes.com
SUMMARY:Sunday Brunch @ Satay Bar October
DESCRIPTION:Join us at the Satay Bar \non the 19th October\,  16th November \, &  21st December 2025 \n 
URL:https://divettes.com/event/sunday-brunch-2/
LOCATION:Satay Bar\, 447 Coldharbour Lane\, London\, SW9 8LP
END:VEVENT
END:VCALENDAR